BEGIN:VCALENDAR
VERSION:2.0
PRODID:-//Flathead Avalanche - ECPv6.15.20//NONSGML v1.0//EN
CALSCALE:GREGORIAN
METHOD:PUBLISH
X-WR-CALNAME:Flathead Avalanche
X-ORIGINAL-URL:https://www.flatheadavalanche.org
X-WR-CALDESC:Events for Flathead Avalanche
REFRESH-INTERVAL;VALUE=DURATION:PT1H
X-Robots-Tag:noindex
X-PUBLISHED-TTL:PT1H
BEGIN:VTIMEZONE
TZID:America/Denver
BEGIN:DAYLIGHT
TZOFFSETFROM:-0700
TZOFFSETTO:-0600
TZNAME:MDT
DTSTART:20230312T090000
END:DAYLIGHT
BEGIN:STANDARD
TZOFFSETFROM:-0600
TZOFFSETTO:-0700
TZNAME:MST
DTSTART:20231105T080000
END:STANDARD
BEGIN:DAYLIGHT
TZOFFSETFROM:-0700
TZOFFSETTO:-0600
TZNAME:MDT
DTSTART:20240310T090000
END:DAYLIGHT
BEGIN:STANDARD
TZOFFSETFROM:-0600
TZOFFSETTO:-0700
TZNAME:MST
DTSTART:20241103T080000
END:STANDARD
BEGIN:DAYLIGHT
TZOFFSETFROM:-0700
TZOFFSETTO:-0600
TZNAME:MDT
DTSTART:20250309T090000
END:DAYLIGHT
BEGIN:STANDARD
TZOFFSETFROM:-0600
TZOFFSETTO:-0700
TZNAME:MST
DTSTART:20251102T080000
END:STANDARD
END:VTIMEZONE
BEGIN:VEVENT
DTSTART;TZID=America/Denver:20240328T180000
DTEND;TZID=America/Denver:20240328T193000
DTSTAMP:20260421T024833
CREATED:20240320T004135Z
LAST-MODIFIED:20240513T183615Z
UID:10000022-1711648800-1711654200@www.flatheadavalanche.org
SUMMARY:Spring Workshop Night
DESCRIPTION:Join us for our last community workshop of the season! You’ll leave with a better understanding of current conditions\, spring avalanche problems\, and how to plan a successful day out this time of year. \nLead Forecaster Mark Dundas will kick things off with a 15-minute State of the Snowpack\, then dig into his hour-long Scoop on Spring Touring presentation. This is a great talk—if you’ve never been\, don’t miss it! And it’s our last workshop night of the year. \nFree scoop of Sweet Peaks ice cream\nDrinks available to purchase \nNo fee or advance registration required
URL:https://www.flatheadavalanche.org/event/spring-workshop-night-2024/
LOCATION:Scout’s Grill\, 27 Scout Lane\, Columbia Falls\, MT\, 59912\, United States
ATTACH;FMTTYPE=image/png:https://www.flatheadavalanche.org/wp-content/uploads/2024/03/Scoop-on-Spring-1.png
END:VEVENT
END:VCALENDAR