BEGIN:VCALENDAR
VERSION:2.0
PRODID:-//Flathead Avalanche - ECPv6.15.20//NONSGML v1.0//EN
CALSCALE:GREGORIAN
METHOD:PUBLISH
X-WR-CALNAME:Flathead Avalanche
X-ORIGINAL-URL:https://www.flatheadavalanche.org
X-WR-CALDESC:Events for Flathead Avalanche
REFRESH-INTERVAL;VALUE=DURATION:PT1H
X-Robots-Tag:noindex
X-PUBLISHED-TTL:PT1H
BEGIN:VTIMEZONE
TZID:UTC
BEGIN:STANDARD
TZOFFSETFROM:+0000
TZOFFSETTO:+0000
TZNAME:UTC
DTSTART:20220101T000000
END:STANDARD
END:VTIMEZONE
BEGIN:VEVENT
DTSTART;TZID=UTC:20231207T180000
DTEND;TZID=UTC:20231207T193000
DTSTAMP:20260422T095501
CREATED:20231111T054121Z
LAST-MODIFIED:20231130T004143Z
UID:10000004-1701972000-1701977400@www.flatheadavalanche.org
SUMMARY:Avalanche Awareness: Eureka
DESCRIPTION:Learn simple steps you can take to stay safe and have fun in avalanche terrain. This engaging presentation is grounded in the Know Before You Go Program. Join us at watering holes and other venues across the Flathead Valley in November\, December\, and January. Host a private session for your employees as a corporate sponsor. \nFree and open to all recreationists \n 
URL:https://www.flatheadavalanche.org/event/avalanche-awareness-3/
LOCATION:Koocanusa Brewery\, 5223 US-93\, Eureka\, MT\, 59917
END:VEVENT
END:VCALENDAR