BEGIN:VCALENDAR
VERSION:2.0
PRODID:-//Flathead Avalanche - ECPv6.15.20//NONSGML v1.0//EN
CALSCALE:GREGORIAN
METHOD:PUBLISH
X-WR-CALNAME:Flathead Avalanche
X-ORIGINAL-URL:https://www.flatheadavalanche.org
X-WR-CALDESC:Events for Flathead Avalanche
REFRESH-INTERVAL;VALUE=DURATION:PT1H
X-Robots-Tag:noindex
X-PUBLISHED-TTL:PT1H
BEGIN:VTIMEZONE
TZID:America/Denver
BEGIN:DAYLIGHT
TZOFFSETFROM:-0700
TZOFFSETTO:-0600
TZNAME:MDT
DTSTART:20230312T090000
END:DAYLIGHT
BEGIN:STANDARD
TZOFFSETFROM:-0600
TZOFFSETTO:-0700
TZNAME:MST
DTSTART:20231105T080000
END:STANDARD
BEGIN:DAYLIGHT
TZOFFSETFROM:-0700
TZOFFSETTO:-0600
TZNAME:MDT
DTSTART:20240310T090000
END:DAYLIGHT
BEGIN:STANDARD
TZOFFSETFROM:-0600
TZOFFSETTO:-0700
TZNAME:MST
DTSTART:20241103T080000
END:STANDARD
BEGIN:DAYLIGHT
TZOFFSETFROM:-0700
TZOFFSETTO:-0600
TZNAME:MDT
DTSTART:20250309T090000
END:DAYLIGHT
BEGIN:STANDARD
TZOFFSETFROM:-0600
TZOFFSETTO:-0700
TZNAME:MST
DTSTART:20251102T080000
END:STANDARD
END:VTIMEZONE
BEGIN:VEVENT
DTSTART;TZID=America/Denver:20241216T180000
DTEND;TZID=America/Denver:20241216T190000
DTSTAMP:20260422T081023
CREATED:20241118T232959Z
LAST-MODIFIED:20241119T224010Z
UID:10000033-1734372000-1734375600@www.flatheadavalanche.org
SUMMARY:Avalanche Awareness Class at Bias Brewing
DESCRIPTION:  \n  \n \nFree and open to everyone! Join us on Monday\, December 16th at 6:00 PM to learn (or refresh) simple steps you can take to stay safe and have fun in avalanche terrain.  This engaging hour-long presentation is grounded in the Know Before You Go Program.
URL:https://www.flatheadavalanche.org/event/avalanche-awareness-class-4/
LOCATION:Bias Brewing\, 412 S Main St\, Kalispell\, MT\, 59901
END:VEVENT
END:VCALENDAR